BEGIN:VCALENDAR
VERSION:2.0
PRODID:-//Poconos Club - ECPv6.15.20//NONSGML v1.0//EN
CALSCALE:GREGORIAN
METHOD:PUBLISH
X-WR-CALNAME:Poconos Club
X-ORIGINAL-URL:https://thepococlub.com
X-WR-CALDESC:Events for Poconos Club
REFRESH-INTERVAL;VALUE=DURATION:PT1H
X-Robots-Tag:noindex
X-PUBLISHED-TTL:PT1H
BEGIN:VTIMEZONE
TZID:America/Toronto
BEGIN:DAYLIGHT
TZOFFSETFROM:-0500
TZOFFSETTO:-0400
TZNAME:EDT
DTSTART:20250309T070000
END:DAYLIGHT
BEGIN:STANDARD
TZOFFSETFROM:-0400
TZOFFSETTO:-0500
TZNAME:EST
DTSTART:20251102T060000
END:STANDARD
BEGIN:DAYLIGHT
TZOFFSETFROM:-0500
TZOFFSETTO:-0400
TZNAME:EDT
DTSTART:20260308T070000
END:DAYLIGHT
BEGIN:STANDARD
TZOFFSETFROM:-0400
TZOFFSETTO:-0500
TZNAME:EST
DTSTART:20261101T060000
END:STANDARD
BEGIN:DAYLIGHT
TZOFFSETFROM:-0500
TZOFFSETTO:-0400
TZNAME:EDT
DTSTART:20270314T070000
END:DAYLIGHT
BEGIN:STANDARD
TZOFFSETFROM:-0400
TZOFFSETTO:-0500
TZNAME:EST
DTSTART:20271107T060000
END:STANDARD
END:VTIMEZONE
BEGIN:VEVENT
DTSTART;TZID=America/Toronto:20260426T100000
DTEND;TZID=America/Toronto:20260426T100000
DTSTAMP:20260421T070242
CREATED:20260226T153721Z
LAST-MODIFIED:20260319T221216Z
UID:10000258-1777197600-1777197600@thepococlub.com
SUMMARY:Playing from 40–80 Yards Clinic
DESCRIPTION:Short Game Clinic: 40-80 Yard Scoring Clinic- April 26th\n$25.00 \n\n\nJoin us for a focused instructional clinic designed to help players improve one of the most important scoring areas in golf!\n\nClinic Details:\nWhen: Sunday\, April 26\nTime: 10:00 AM\nClinic Fee: $25.00\n17th Hole or TrackMan Simulators (TBD)\n\nWhat We’ll Work On:\n\n\nBuilding reliable carry distances from 40–80 yards\nControlling trajectory including low\, stock\, and high shots\nChoosing the correct wedge for each situation\nDistance control under pressure\nRandom yardage challenges\n\n\nWhether we are working on-course at the 17th hole or using TrackMan for precise carry numbers\, players will gain a clear understanding of how to manage scoring shots inside 80 yards.\n\nSpots are limited! Don’t wait and sign up today!\n\n\nSign-Up Today!
URL:https://thepococlub.com/event/playing-from-40-80-yards-clinic/
END:VEVENT
END:VCALENDAR