BEGIN:VCALENDAR
VERSION:2.0
PRODID:-//Poconos Club - ECPv6.15.20//NONSGML v1.0//EN
CALSCALE:GREGORIAN
METHOD:PUBLISH
X-ORIGINAL-URL:https://thepococlub.com
X-WR-CALDESC:Events for Poconos Club
REFRESH-INTERVAL;VALUE=DURATION:PT1H
X-Robots-Tag:noindex
X-PUBLISHED-TTL:PT1H
BEGIN:VTIMEZONE
TZID:America/Toronto
BEGIN:DAYLIGHT
TZOFFSETFROM:-0500
TZOFFSETTO:-0400
TZNAME:EDT
DTSTART:20250309T070000
END:DAYLIGHT
BEGIN:STANDARD
TZOFFSETFROM:-0400
TZOFFSETTO:-0500
TZNAME:EST
DTSTART:20251102T060000
END:STANDARD
BEGIN:DAYLIGHT
TZOFFSETFROM:-0500
TZOFFSETTO:-0400
TZNAME:EDT
DTSTART:20260308T070000
END:DAYLIGHT
BEGIN:STANDARD
TZOFFSETFROM:-0400
TZOFFSETTO:-0500
TZNAME:EST
DTSTART:20261101T060000
END:STANDARD
BEGIN:DAYLIGHT
TZOFFSETFROM:-0500
TZOFFSETTO:-0400
TZNAME:EDT
DTSTART:20270314T070000
END:DAYLIGHT
BEGIN:STANDARD
TZOFFSETFROM:-0400
TZOFFSETTO:-0500
TZNAME:EST
DTSTART:20271107T060000
END:STANDARD
END:VTIMEZONE
BEGIN:VEVENT
DTSTART;VALUE=DATE:20260404
DTEND;VALUE=DATE:20260405
DTSTAMP:20260421T205244
CREATED:20260213T180036Z
LAST-MODIFIED:20260213T180036Z
UID:10000025-1775260800-1775347199@thepococlub.com
SUMMARY:Easter Scramble
DESCRIPTION:
URL:https://thepococlub.com/event/easter-scramble/
END:VEVENT
BEGIN:VEVENT
DTSTART;TZID=America/Toronto:20260412T130000
DTEND;TZID=America/Toronto:20260412T130000
DTSTAMP:20260421T205244
CREATED:20260226T153631Z
LAST-MODIFIED:20260319T195115Z
UID:10000257-1775998800-1775998800@thepococlub.com
SUMMARY:Chipping & Putting Clinic
DESCRIPTION:Short Game Clinic: Chipping & Putting\nJoin us for a focused short game clinic designed to help you save strokes immediately around the greens. This session will cover essential techniques and simple practice methods that players of all skill levels can apply right away. \nClinic Details:\nDate: Sunday\, April 12\nTime: 1:00 PM\nClinic Fee: $25.00 per person\nWhere: Putting Green Outside the Clubhouse\nWhat We’ll Cover: \n\nProper setup and strike for consistent contact\nControlling trajectory and landing spots when chipping\nDistance control in lag putting\n3 to 6 foot “must make” putting fundamentals\nCompetitive up and down and putting challenges\n\nPlayers will leave with simple\, repeatable techniques and practice drills they can use all season.\nSpots are limited. Reserve your place today by signing up! \nClick Here to Sign-up!
URL:https://thepococlub.com/event/chipping-putting-clinic/
END:VEVENT
BEGIN:VEVENT
DTSTART;VALUE=DATE:20260418
DTEND;VALUE=DATE:20260419
DTSTAMP:20260421T205244
CREATED:20260320T200803Z
LAST-MODIFIED:20260322T212912Z
UID:10000268-1776470400-1776556799@thepococlub.com
SUMMARY:Spring Classic Quota Tournament
DESCRIPTION:Join us for our Spring Classic Quota Tournament\, a two-person team event inspired by the excitement of golf’s first major of the season. This fun and competitive format rewards both steady play and big moments.\n\nDetails:\nWhen: Saturday\, April 18\nTime 8:00 AM Shotgun Start\nEntry Fee: $50.00 per player\n\nFormat Overview\n\nPlayers compete as two person teams\nEach golfer plays their own ball\nPoints are awarded based on score per hole\n\n\nBogey = 1 point\nPar = 2 points\nBirdie = 4 points\nEagle = 8 points\n\n\nEach player receives an individual quota based on their course handicap. The team’s total points are compared to their combined quota\, and the team that exceeds their quota by the largest margin wins.\n\nStandard Quota Formula\nQuota = 36 minus Course Handicap\nExamples:\n6 handicap → 30 point quota\n12 handicap → 24 point quota\n18 handicap → 18 point quota\n24 handicap → 12 point quota\n\nLower handicaps carry higher quotas while higher handicaps have lower quotas\, creating a balanced competition where every player has a chance to win. This format makes every hole matter. Big birdies help\, but steady pars win tournaments.\n\nThe winning team will earn the honorary Spring Classic Champion title.\n\nSpots are limited. Sign Up Today!\n\nSign-up Today!
URL:https://thepococlub.com/event/spring-classic-quota-event/
END:VEVENT
BEGIN:VEVENT
DTSTART;TZID=America/Toronto:20260426T100000
DTEND;TZID=America/Toronto:20260426T100000
DTSTAMP:20260421T205244
CREATED:20260226T153721Z
LAST-MODIFIED:20260319T221216Z
UID:10000258-1777197600-1777197600@thepococlub.com
SUMMARY:Playing from 40–80 Yards Clinic
DESCRIPTION:Short Game Clinic: 40-80 Yard Scoring Clinic- April 26th\n$25.00 \n\n\nJoin us for a focused instructional clinic designed to help players improve one of the most important scoring areas in golf!\n\nClinic Details:\nWhen: Sunday\, April 26\nTime: 10:00 AM\nClinic Fee: $25.00\n17th Hole or TrackMan Simulators (TBD)\n\nWhat We’ll Work On:\n\n\nBuilding reliable carry distances from 40–80 yards\nControlling trajectory including low\, stock\, and high shots\nChoosing the correct wedge for each situation\nDistance control under pressure\nRandom yardage challenges\n\n\nWhether we are working on-course at the 17th hole or using TrackMan for precise carry numbers\, players will gain a clear understanding of how to manage scoring shots inside 80 yards.\n\nSpots are limited! Don’t wait and sign up today!\n\n\nSign-Up Today!
URL:https://thepococlub.com/event/playing-from-40-80-yards-clinic/
END:VEVENT
BEGIN:VEVENT
DTSTART;VALUE=DATE:20260502
DTEND;VALUE=DATE:20260503
DTSTAMP:20260421T205244
CREATED:20260213T183615Z
LAST-MODIFIED:20260213T183615Z
UID:10000204-1777680000-1777766399@thepococlub.com
SUMMARY:League Deadlines! Not including Friday nights
DESCRIPTION:
URL:https://thepococlub.com/event/league-deadlines-not-including-friday-nights/
END:VEVENT
BEGIN:VEVENT
DTSTART;TZID=America/Toronto:20260505T170000
DTEND;TZID=America/Toronto:20260505T170000
DTSTAMP:20260421T205244
CREATED:20260213T182259Z
LAST-MODIFIED:20260416T160628Z
UID:10000030-1778000400-1778000400@thepococlub.com
SUMMARY:9 hole twilight league 5 pm
DESCRIPTION:
URL:https://thepococlub.com/event/9-hole-twilight-league-5-pm/2026-05-05/
END:VEVENT
BEGIN:VEVENT
DTSTART;TZID=America/Toronto:20260506T170000
DTEND;TZID=America/Toronto:20260506T170000
DTSTAMP:20260421T205244
CREATED:20260213T182557Z
LAST-MODIFIED:20260416T160618Z
UID:10000049-1778086800-1778086800@thepococlub.com
SUMMARY:9 hole ladies league 5 pm
DESCRIPTION:
URL:https://thepococlub.com/event/9-hole-ladies-league-5-pm/2026-05-06/
END:VEVENT
BEGIN:VEVENT
DTSTART;TZID=America/Toronto:20260507T140000
DTEND;TZID=America/Toronto:20260507T140000
DTSTAMP:20260421T205244
CREATED:20260213T182736Z
LAST-MODIFIED:20260416T160609Z
UID:10000063-1778162400-1778162400@thepococlub.com
SUMMARY:mens 18 hole league 2 pm
DESCRIPTION:
URL:https://thepococlub.com/event/mens-18-hole-league-2-pm/2026-05-07/
END:VEVENT
BEGIN:VEVENT
DTSTART;TZID=America/Toronto:20260508T170000
DTEND;TZID=America/Toronto:20260508T170000
DTSTAMP:20260421T205244
CREATED:20260213T182834Z
LAST-MODIFIED:20260416T160558Z
UID:10000076-1778259600-1778259600@thepococlub.com
SUMMARY:friday night scramble 5 pm
DESCRIPTION:
URL:https://thepococlub.com/event/friday-night-scramble-5-pm/2026-05-08/
END:VEVENT
BEGIN:VEVENT
DTSTART;VALUE=DATE:20260510
DTEND;VALUE=DATE:20260511
DTSTAMP:20260421T205244
CREATED:20260213T183033Z
LAST-MODIFIED:20260416T145220Z
UID:10000093-1778371200-1778457599@thepococlub.com
SUMMARY:short game clinic
DESCRIPTION:
URL:https://thepococlub.com/event/short-game-clinic/2026-05-10/
END:VEVENT
BEGIN:VEVENT
DTSTART;TZID=America/Toronto:20260512T170000
DTEND;TZID=America/Toronto:20260512T170000
DTSTAMP:20260421T205244
CREATED:20260213T182259Z
LAST-MODIFIED:20260416T160628Z
UID:10000031-1778605200-1778605200@thepococlub.com
SUMMARY:9 hole twilight league 5 pm
DESCRIPTION:
URL:https://thepococlub.com/event/9-hole-twilight-league-5-pm/2026-05-12/
END:VEVENT
BEGIN:VEVENT
DTSTART;TZID=America/Toronto:20260513T170000
DTEND;TZID=America/Toronto:20260513T170000
DTSTAMP:20260421T205244
CREATED:20260213T182557Z
LAST-MODIFIED:20260416T160618Z
UID:10000050-1778691600-1778691600@thepococlub.com
SUMMARY:9 hole ladies league 5 pm
DESCRIPTION:
URL:https://thepococlub.com/event/9-hole-ladies-league-5-pm/2026-05-13/
END:VEVENT
BEGIN:VEVENT
DTSTART;TZID=America/Toronto:20260514T140000
DTEND;TZID=America/Toronto:20260514T140000
DTSTAMP:20260421T205244
CREATED:20260213T182736Z
LAST-MODIFIED:20260416T160609Z
UID:10000064-1778767200-1778767200@thepococlub.com
SUMMARY:mens 18 hole league 2 pm
DESCRIPTION:
URL:https://thepococlub.com/event/mens-18-hole-league-2-pm/2026-05-14/
END:VEVENT
BEGIN:VEVENT
DTSTART;TZID=America/Toronto:20260515T170000
DTEND;TZID=America/Toronto:20260515T170000
DTSTAMP:20260421T205244
CREATED:20260213T182834Z
LAST-MODIFIED:20260416T160558Z
UID:10000077-1778864400-1778864400@thepococlub.com
SUMMARY:friday night scramble 5 pm
DESCRIPTION:
URL:https://thepococlub.com/event/friday-night-scramble-5-pm/2026-05-15/
END:VEVENT
BEGIN:VEVENT
DTSTART;VALUE=DATE:20260516
DTEND;VALUE=DATE:20260517
DTSTAMP:20260421T205244
CREATED:20260213T183517Z
LAST-MODIFIED:20260213T183517Z
UID:10000203-1778889600-1778975999@thepococlub.com
SUMMARY:pga champonship
DESCRIPTION:
URL:https://thepococlub.com/event/pga-champonship/
END:VEVENT
BEGIN:VEVENT
DTSTART;VALUE=DATE:20260517
DTEND;VALUE=DATE:20260518
DTSTAMP:20260421T205244
CREATED:20260213T183033Z
LAST-MODIFIED:20260416T145220Z
UID:10000094-1778976000-1779062399@thepococlub.com
SUMMARY:short game clinic
DESCRIPTION:
URL:https://thepococlub.com/event/short-game-clinic/2026-05-17/
END:VEVENT
BEGIN:VEVENT
DTSTART;TZID=America/Toronto:20260519T170000
DTEND;TZID=America/Toronto:20260519T170000
DTSTAMP:20260421T205244
CREATED:20260213T182259Z
LAST-MODIFIED:20260416T160628Z
UID:10000032-1779210000-1779210000@thepococlub.com
SUMMARY:9 hole twilight league 5 pm
DESCRIPTION:
URL:https://thepococlub.com/event/9-hole-twilight-league-5-pm/2026-05-19/
END:VEVENT
BEGIN:VEVENT
DTSTART;TZID=America/Toronto:20260520T170000
DTEND;TZID=America/Toronto:20260520T170000
DTSTAMP:20260421T205244
CREATED:20260213T182557Z
LAST-MODIFIED:20260416T160618Z
UID:10000051-1779296400-1779296400@thepococlub.com
SUMMARY:9 hole ladies league 5 pm
DESCRIPTION:
URL:https://thepococlub.com/event/9-hole-ladies-league-5-pm/2026-05-20/
END:VEVENT
BEGIN:VEVENT
DTSTART;TZID=America/Toronto:20260521T140000
DTEND;TZID=America/Toronto:20260521T140000
DTSTAMP:20260421T205244
CREATED:20260213T182736Z
LAST-MODIFIED:20260416T160609Z
UID:10000065-1779372000-1779372000@thepococlub.com
SUMMARY:mens 18 hole league 2 pm
DESCRIPTION:
URL:https://thepococlub.com/event/mens-18-hole-league-2-pm/2026-05-21/
END:VEVENT
BEGIN:VEVENT
DTSTART;TZID=America/Toronto:20260522T170000
DTEND;TZID=America/Toronto:20260522T170000
DTSTAMP:20260421T205244
CREATED:20260213T182834Z
LAST-MODIFIED:20260416T160558Z
UID:10000078-1779469200-1779469200@thepococlub.com
SUMMARY:friday night scramble 5 pm
DESCRIPTION:
URL:https://thepococlub.com/event/friday-night-scramble-5-pm/2026-05-22/
END:VEVENT
BEGIN:VEVENT
DTSTART;VALUE=DATE:20260523
DTEND;VALUE=DATE:20260524
DTSTAMP:20260421T205244
CREATED:20260213T183454Z
LAST-MODIFIED:20260213T183454Z
UID:10000202-1779494400-1779580799@thepococlub.com
SUMMARY:RED\, WHITE\, BLUE   taylormade fitting day
DESCRIPTION:
URL:https://thepococlub.com/event/red-white-blue-taylormade-fitting-day/
END:VEVENT
BEGIN:VEVENT
DTSTART;TZID=America/Toronto:20260523T080000
DTEND;TZID=America/Toronto:20260523T080000
DTSTAMP:20260421T205244
CREATED:20260226T154015Z
LAST-MODIFIED:20260226T154015Z
UID:10000263-1779523200-1779523200@thepococlub.com
SUMMARY:Red\, White & Blue Tournament
DESCRIPTION:Team Event\nA Ryder Cup–style format with changing tees and formats.\nFormat:\n\n4 person teams\nHoles 1–6 (Red Tees): Alternate Shot\nHoles 7–12 (White Tees): Better Ball\nHoles 13–18 (Blue Tees): Scramble\n\nTotal cumulative score determines the winner.
URL:https://thepococlub.com/event/red-white-blue-tournament/
END:VEVENT
BEGIN:VEVENT
DTSTART;TZID=America/Toronto:20260526T170000
DTEND;TZID=America/Toronto:20260526T170000
DTSTAMP:20260421T205244
CREATED:20260213T182259Z
LAST-MODIFIED:20260416T160628Z
UID:10000033-1779814800-1779814800@thepococlub.com
SUMMARY:9 hole twilight league 5 pm
DESCRIPTION:
URL:https://thepococlub.com/event/9-hole-twilight-league-5-pm/2026-05-26/
END:VEVENT
BEGIN:VEVENT
DTSTART;TZID=America/Toronto:20260527T170000
DTEND;TZID=America/Toronto:20260527T170000
DTSTAMP:20260421T205244
CREATED:20260213T182557Z
LAST-MODIFIED:20260416T160618Z
UID:10000052-1779901200-1779901200@thepococlub.com
SUMMARY:9 hole ladies league 5 pm
DESCRIPTION:
URL:https://thepococlub.com/event/9-hole-ladies-league-5-pm/2026-05-27/
END:VEVENT
BEGIN:VEVENT
DTSTART;TZID=America/Toronto:20260528T140000
DTEND;TZID=America/Toronto:20260528T140000
DTSTAMP:20260421T205244
CREATED:20260213T182736Z
LAST-MODIFIED:20260416T160609Z
UID:10000066-1779976800-1779976800@thepococlub.com
SUMMARY:mens 18 hole league 2 pm
DESCRIPTION:
URL:https://thepococlub.com/event/mens-18-hole-league-2-pm/2026-05-28/
END:VEVENT
BEGIN:VEVENT
DTSTART;TZID=America/Toronto:20260529T170000
DTEND;TZID=America/Toronto:20260529T170000
DTSTAMP:20260421T205244
CREATED:20260213T182834Z
LAST-MODIFIED:20260416T160558Z
UID:10000079-1780074000-1780074000@thepococlub.com
SUMMARY:friday night scramble 5 pm
DESCRIPTION:
URL:https://thepococlub.com/event/friday-night-scramble-5-pm/2026-05-29/
END:VEVENT
BEGIN:VEVENT
DTSTART;TZID=America/Toronto:20260602T170000
DTEND;TZID=America/Toronto:20260602T170000
DTSTAMP:20260421T205244
CREATED:20260213T182259Z
LAST-MODIFIED:20260416T160628Z
UID:10000273-1780419600-1780419600@thepococlub.com
SUMMARY:9 hole twilight league 5 pm
DESCRIPTION:
URL:https://thepococlub.com/event/9-hole-twilight-league-5-pm/2026-06-02/
END:VEVENT
BEGIN:VEVENT
DTSTART;TZID=America/Toronto:20260603T170000
DTEND;TZID=America/Toronto:20260603T170000
DTSTAMP:20260421T205244
CREATED:20260213T182557Z
LAST-MODIFIED:20260416T160618Z
UID:10000271-1780506000-1780506000@thepococlub.com
SUMMARY:9 hole ladies league 5 pm
DESCRIPTION:
URL:https://thepococlub.com/event/9-hole-ladies-league-5-pm/2026-06-03/
END:VEVENT
BEGIN:VEVENT
DTSTART;TZID=America/Toronto:20260604T140000
DTEND;TZID=America/Toronto:20260604T140000
DTSTAMP:20260421T205244
CREATED:20260213T182736Z
LAST-MODIFIED:20260416T160609Z
UID:10000269-1780581600-1780581600@thepococlub.com
SUMMARY:mens 18 hole league 2 pm
DESCRIPTION:
URL:https://thepococlub.com/event/mens-18-hole-league-2-pm/2026-06-04/
END:VEVENT
BEGIN:VEVENT
DTSTART;TZID=America/Toronto:20260605T170000
DTEND;TZID=America/Toronto:20260605T170000
DTSTAMP:20260421T205244
CREATED:20260213T182834Z
LAST-MODIFIED:20260416T160558Z
UID:10000080-1780678800-1780678800@thepococlub.com
SUMMARY:friday night scramble 5 pm
DESCRIPTION:
URL:https://thepococlub.com/event/friday-night-scramble-5-pm/2026-06-05/
END:VEVENT
END:VCALENDAR