BEGIN:VCALENDAR
VERSION:2.0
PRODID:-//Poconos Club - ECPv6.15.20//NONSGML v1.0//EN
CALSCALE:GREGORIAN
METHOD:PUBLISH
X-WR-CALNAME:Poconos Club
X-ORIGINAL-URL:https://thepococlub.com
X-WR-CALDESC:Events for Poconos Club
REFRESH-INTERVAL;VALUE=DURATION:PT1H
X-Robots-Tag:noindex
X-PUBLISHED-TTL:PT1H
BEGIN:VTIMEZONE
TZID:America/Toronto
BEGIN:DAYLIGHT
TZOFFSETFROM:-0500
TZOFFSETTO:-0400
TZNAME:EDT
DTSTART:20240310T070000
END:DAYLIGHT
BEGIN:STANDARD
TZOFFSETFROM:-0400
TZOFFSETTO:-0500
TZNAME:EST
DTSTART:20241103T060000
END:STANDARD
BEGIN:DAYLIGHT
TZOFFSETFROM:-0500
TZOFFSETTO:-0400
TZNAME:EDT
DTSTART:20250309T070000
END:DAYLIGHT
BEGIN:STANDARD
TZOFFSETFROM:-0400
TZOFFSETTO:-0500
TZNAME:EST
DTSTART:20251102T060000
END:STANDARD
BEGIN:DAYLIGHT
TZOFFSETFROM:-0500
TZOFFSETTO:-0400
TZNAME:EDT
DTSTART:20260308T070000
END:DAYLIGHT
BEGIN:STANDARD
TZOFFSETFROM:-0400
TZOFFSETTO:-0500
TZNAME:EST
DTSTART:20261101T060000
END:STANDARD
BEGIN:DAYLIGHT
TZOFFSETFROM:-0500
TZOFFSETTO:-0400
TZNAME:EDT
DTSTART:20270314T070000
END:DAYLIGHT
BEGIN:STANDARD
TZOFFSETFROM:-0400
TZOFFSETTO:-0500
TZNAME:EST
DTSTART:20271107T060000
END:STANDARD
END:VTIMEZONE
BEGIN:VEVENT
DTSTART;VALUE=DATE:20260418
DTEND;VALUE=DATE:20260419
DTSTAMP:20260421T114915
CREATED:20260320T200803Z
LAST-MODIFIED:20260322T212912Z
UID:10000268-1776470400-1776556799@thepococlub.com
SUMMARY:Spring Classic Quota Tournament
DESCRIPTION:Join us for our Spring Classic Quota Tournament\, a two-person team event inspired by the excitement of golf’s first major of the season. This fun and competitive format rewards both steady play and big moments.\n\nDetails:\nWhen: Saturday\, April 18\nTime 8:00 AM Shotgun Start\nEntry Fee: $50.00 per player\n\nFormat Overview\n\nPlayers compete as two person teams\nEach golfer plays their own ball\nPoints are awarded based on score per hole\n\n\nBogey = 1 point\nPar = 2 points\nBirdie = 4 points\nEagle = 8 points\n\n\nEach player receives an individual quota based on their course handicap. The team’s total points are compared to their combined quota\, and the team that exceeds their quota by the largest margin wins.\n\nStandard Quota Formula\nQuota = 36 minus Course Handicap\nExamples:\n6 handicap → 30 point quota\n12 handicap → 24 point quota\n18 handicap → 18 point quota\n24 handicap → 12 point quota\n\nLower handicaps carry higher quotas while higher handicaps have lower quotas\, creating a balanced competition where every player has a chance to win. This format makes every hole matter. Big birdies help\, but steady pars win tournaments.\n\nThe winning team will earn the honorary Spring Classic Champion title.\n\nSpots are limited. Sign Up Today!\n\nSign-up Today!
URL:https://thepococlub.com/event/spring-classic-quota-event/
END:VEVENT
BEGIN:VEVENT
DTSTART;TZID=America/Toronto:20260412T130000
DTEND;TZID=America/Toronto:20260412T130000
DTSTAMP:20260421T114915
CREATED:20260226T153631Z
LAST-MODIFIED:20260319T195115Z
UID:10000257-1775998800-1775998800@thepococlub.com
SUMMARY:Chipping & Putting Clinic
DESCRIPTION:Short Game Clinic: Chipping & Putting\nJoin us for a focused short game clinic designed to help you save strokes immediately around the greens. This session will cover essential techniques and simple practice methods that players of all skill levels can apply right away. \nClinic Details:\nDate: Sunday\, April 12\nTime: 1:00 PM\nClinic Fee: $25.00 per person\nWhere: Putting Green Outside the Clubhouse\nWhat We’ll Cover: \n\nProper setup and strike for consistent contact\nControlling trajectory and landing spots when chipping\nDistance control in lag putting\n3 to 6 foot “must make” putting fundamentals\nCompetitive up and down and putting challenges\n\nPlayers will leave with simple\, repeatable techniques and practice drills they can use all season.\nSpots are limited. Reserve your place today by signing up! \nClick Here to Sign-up!
URL:https://thepococlub.com/event/chipping-putting-clinic/
END:VEVENT
BEGIN:VEVENT
DTSTART;VALUE=DATE:20260404
DTEND;VALUE=DATE:20260405
DTSTAMP:20260421T114915
CREATED:20260213T180036Z
LAST-MODIFIED:20260213T180036Z
UID:10000025-1775260800-1775347199@thepococlub.com
SUMMARY:Easter Scramble
DESCRIPTION:
URL:https://thepococlub.com/event/easter-scramble/
END:VEVENT
BEGIN:VEVENT
DTSTART;TZID=America/Toronto:20250831T090000
DTEND;TZID=America/Toronto:20250831T100000
DTSTAMP:20260421T114915
CREATED:20250731T113002Z
LAST-MODIFIED:20250731T113002Z
UID:10000013-1756630800-1756634400@thepococlub.com
SUMMARY:3 Part Clinic- Finale
DESCRIPTION:Guided on-course experience (3 holes)\nCourse etiquette\, pace of play\, and club selection\nReal-time coaching and personalized tips\nQ&A and social wrap-up
URL:https://thepococlub.com/event/3-part-clinic-finale-2/
END:VEVENT
BEGIN:VEVENT
DTSTART;TZID=America/Toronto:20250830T080000
DTEND;TZID=America/Toronto:20250901T170000
DTSTAMP:20260421T114915
CREATED:20250731T114807Z
LAST-MODIFIED:20250731T114857Z
UID:10000018-1756540800-1756746000@thepococlub.com
SUMMARY:Labor Day Golfing Special
DESCRIPTION:Labor Day Weekend Special \nUnlimited Golf Pass – Just $149 \n\nValid all weekend long (Saturday\, Sunday & Monday)\nIncludes a cart\nPlay as much as you want for one flat price!
URL:https://thepococlub.com/event/labor-day-golfing-special/
END:VEVENT
BEGIN:VEVENT
DTSTART;TZID=America/Toronto:20250830T080000
DTEND;TZID=America/Toronto:20250830T170000
DTSTAMP:20260421T114915
CREATED:20250731T114249Z
LAST-MODIFIED:20250731T114249Z
UID:10000017-1756540800-1756573200@thepococlub.com
SUMMARY:Poconos Club Bramble
DESCRIPTION:4-Person Team Bramble \n\nFee: $20 (Members) | $65 (Non-Members)\nFormat: Bramble with Gross and Net prizes\nIncludes: Specialty prizes for closest to the pins and additional contests
URL:https://thepococlub.com/event/poconos-club-bramble/
END:VEVENT
BEGIN:VEVENT
DTSTART;TZID=America/Toronto:20250825T130000
DTEND;TZID=America/Toronto:20250828T160000
DTSTAMP:20260421T114915
CREATED:20250731T121903Z
LAST-MODIFIED:20250731T121903Z
UID:10000024-1756126800-1756396800@thepococlub.com
SUMMARY:Mid-Week Special
DESCRIPTION:$30 Green Fee with Cart Between the Hours of 1-4pm
URL:https://thepococlub.com/event/mid-week-special-3/
END:VEVENT
BEGIN:VEVENT
DTSTART;TZID=America/Toronto:20250824T090000
DTEND;TZID=America/Toronto:20250824T100000
DTSTAMP:20260421T114915
CREATED:20250731T112801Z
LAST-MODIFIED:20250731T112801Z
UID:10000012-1756026000-1756029600@thepococlub.com
SUMMARY:3 Part Clinic Session 2
DESCRIPTION:Chipping\, pitching\, and bunker basics\nPutting drills for distance control and alignment\nHow to manage greenside situations\nOn-green games to make practice fun
URL:https://thepococlub.com/event/3-part-clinic-session-2/
END:VEVENT
BEGIN:VEVENT
DTSTART;TZID=America/Toronto:20250823T080000
DTEND;TZID=America/Toronto:20250823T170000
DTSTAMP:20260421T114915
CREATED:20250731T114118Z
LAST-MODIFIED:20250731T114118Z
UID:10000016-1755936000-1755968400@thepococlub.com
SUMMARY:Poconos Club Better-Ball of Partners
DESCRIPTION:August 23rd – Better-Ball of Partners \n\nFee: $20 (Members) | $65 (Non-Members)\nFormat: 2 person Best- Ball Gross and Net scoring\nIncludes: Specialty prizes for closest to the pins and more
URL:https://thepococlub.com/event/poconos-club-better-ball-of-partners/
END:VEVENT
BEGIN:VEVENT
DTSTART;TZID=America/Toronto:20250822T080000
DTEND;TZID=America/Toronto:20250822T170000
DTSTAMP:20260421T114915
CREATED:20250731T115315Z
LAST-MODIFIED:20250731T115315Z
UID:10000020-1755849600-1755882000@thepococlub.com
SUMMARY:Nine & Dine
DESCRIPTION:9 & Dine Details: \n Date: Friday\, August 22 \n⛳ Includes: \n\n9 holes of golf\nDinner\nTournament entry\nSpecialty prizes for closest to the pin and other fun contests\n\n Pricing: \n\nMembers: $20 per person\nNon-Members: $40 per person
URL:https://thepococlub.com/event/nine-dine/
END:VEVENT
BEGIN:VEVENT
DTSTART;TZID=America/Toronto:20250818T080000
DTEND;TZID=America/Toronto:20250821T170000
DTSTAMP:20260421T114915
CREATED:20250731T121727Z
LAST-MODIFIED:20250731T121727Z
UID:10000023-1755504000-1755795600@thepococlub.com
SUMMARY:Mid-Week Special
DESCRIPTION:$30 Green Fee with Cart Between the Hours of 1-4pm
URL:https://thepococlub.com/event/mid-week-special-2/
END:VEVENT
BEGIN:VEVENT
DTSTART;TZID=America/Toronto:20250818T080000
DTEND;TZID=America/Toronto:20250818T170000
DTSTAMP:20260421T114915
CREATED:20250731T115136Z
LAST-MODIFIED:20250731T115136Z
UID:10000019-1755504000-1755536400@thepococlub.com
SUMMARY:National Couples Day
DESCRIPTION:Couples Golf Special \n2 Players for Just $79 \nIncludes greens fees and cart \nValid all day on Monday\, August 18th \nPerfect for spouses and partners
URL:https://thepococlub.com/event/national-couples-day/
END:VEVENT
BEGIN:VEVENT
DTSTART;TZID=America/Toronto:20250817T090000
DTEND;TZID=America/Toronto:20250817T100000
DTSTAMP:20260421T114915
CREATED:20250731T112427Z
LAST-MODIFIED:20250731T112546Z
UID:10000011-1755421200-1755424800@thepococlub.com
SUMMARY:3 Part Clinic Session 1
DESCRIPTION:Week 1: Fundamentals & Full Swing \n\nIntroduction to grip\, posture\, and alignment\nFocus on full swing mechanics with irons and hybrids\nConfidence-building drills and tips\n\n9am-10am
URL:https://thepococlub.com/event/3-part-clinic-session-1/
END:VEVENT
BEGIN:VEVENT
DTSTART;TZID=America/Toronto:20250816T080000
DTEND;TZID=America/Toronto:20250817T170000
DTSTAMP:20260421T114915
CREATED:20250731T113855Z
LAST-MODIFIED:20250731T113855Z
UID:10000015-1755331200-1755450000@thepococlub.com
SUMMARY:Club Championship
DESCRIPTION:August 16th & 17th – Club Championship \n\nFormat: 36-hole stroke play event\nCompete for the ultimate bragging rights in our signature championship!\n\n  \nMust be a current Member to compete.
URL:https://thepococlub.com/event/club-championship/
END:VEVENT
BEGIN:VEVENT
DTSTART;TZID=America/Toronto:20250811T130000
DTEND;TZID=America/Toronto:20250814T160000
DTSTAMP:20260421T114915
CREATED:20250731T121622Z
LAST-MODIFIED:20250731T121622Z
UID:10000022-1754917200-1755187200@thepococlub.com
SUMMARY:Midweek Special
DESCRIPTION:$30 Green Fee with Cart Between the Hours of 1-4pm
URL:https://thepococlub.com/event/midweek-special/
END:VEVENT
BEGIN:VEVENT
DTSTART;VALUE=DATE:20250809
DTEND;VALUE=DATE:20250810
DTSTAMP:20260421T114915
CREATED:20250731T113705Z
LAST-MODIFIED:20250731T113705Z
UID:10000014-1754697600-1754783999@thepococlub.com
SUMMARY:Poconos Club 2 Person Scramble
DESCRIPTION:2-Person Scramble \n\nFee: $20 (Members) | $65 (Non-Members)\nIncludes: Tournament entry\, greens fee\, and cart\nHighlights: Specialty prizes for closest to the pin and other games
URL:https://thepococlub.com/event/poconos-club-2-person-scramble/
END:VEVENT
BEGIN:VEVENT
DTSTART;TZID=America/Toronto:20250804T130000
DTEND;TZID=America/Toronto:20250807T160000
DTSTAMP:20260421T114915
CREATED:20250731T115926Z
LAST-MODIFIED:20250731T121139Z
UID:10000021-1754312400-1754582400@thepococlub.com
SUMMARY:Mid-Week Special
DESCRIPTION:$30 Green Fee with Cart Between the Hours of 1-4pm
URL:https://thepococlub.com/event/mid-week-special/
END:VEVENT
BEGIN:VEVENT
DTSTART;TZID=America/Toronto:20250803T150000
DTEND;TZID=America/Toronto:20250803T163000
DTSTAMP:20260421T114915
CREATED:20250731T112208Z
LAST-MODIFIED:20250731T112208Z
UID:10000010-1754233200-1754238600@thepococlub.com
SUMMARY:3-Part Clinic Finale
DESCRIPTION:
URL:https://thepococlub.com/event/3-part-clinic-finale/
END:VEVENT
BEGIN:VEVENT
DTSTART;TZID=America/Toronto:20250801T170000
DTEND;TZID=America/Toronto:20250801T203000
DTSTAMP:20260421T114915
CREATED:20250731T111839Z
LAST-MODIFIED:20250731T112046Z
UID:10000008-1754067600-1754080200@thepococlub.com
SUMMARY:Friday Night Scramble
DESCRIPTION:
URL:https://thepococlub.com/event/friday-night-scramble-7/
END:VEVENT
BEGIN:VEVENT
DTSTART;TZID=America/Toronto:20250801T080000
DTEND;TZID=America/Toronto:20250801T170000
DTSTAMP:20260421T114915
CREATED:20250731T111953Z
LAST-MODIFIED:20250731T111953Z
UID:10000009-1754035200-1754067600@thepococlub.com
SUMMARY:International Beer Day
DESCRIPTION:Import Beer Specials All-Day
URL:https://thepococlub.com/event/international-beer-day/
END:VEVENT
BEGIN:VEVENT
DTSTART;TZID=America/Toronto:20250725T170000
DTEND;TZID=America/Toronto:20250725T203000
DTSTAMP:20260421T114915
CREATED:20250607T162838Z
LAST-MODIFIED:20250607T162858Z
UID:10000007-1753462800-1753475400@thepococlub.com
SUMMARY:Friday Night Scramble
DESCRIPTION:A Fun filled event! Sign up as a foursome\, a single or anything in between! \nMembers is $15 entry \nNon-Members $4o entry \n5pm Shotgun Start \n\n\n                \n                        \n                            Contact Form\n                             \n                         \n \n                        URLThis field is for validation purposes and should be left unchanged.Your Name*\n                            \n                            \n                                                    \n                                                    First\n                                                \n                            \n                            \n                                                    \n                                                    Last\n                                                \n                            \n                        Phone*Email*\n                            \n                        Please Include Any Additional Details*hCaptcha		\n				\n		\n		\n          \n            \n            \n            \n            \n            \n            \n            \n            \n            \n            \n            \n            \n            \n        \n                        Δ
URL:https://thepococlub.com/event/friday-night-scramble-6/
END:VEVENT
BEGIN:VEVENT
DTSTART;TZID=America/Toronto:20250718T173000
DTEND;TZID=America/Toronto:20250718T193000
DTSTAMP:20260421T114915
CREATED:20250607T162707Z
LAST-MODIFIED:20250607T162733Z
UID:10000006-1752859800-1752867000@thepococlub.com
SUMMARY:Friday Night Scramble
DESCRIPTION:A Fun filled event! Sign up as a foursome\, a single or anything in between! \nMembers is $15 entry \nNon-Members $4o entry \n5pm Shotgun Start \n\n                \n                        \n                            Contact Form\n                             \n                         \n \n                        CompanyThis field is for validation purposes and should be left unchanged.Your Name*\n                            \n                            \n                                                    \n                                                    First\n                                                \n                            \n                            \n                                                    \n                                                    Last\n                                                \n                            \n                        Phone*Email*\n                            \n                        Please Include Any Additional Details*hCaptcha		\n				\n		\n		\n          \n            \n            \n            \n            \n            \n            \n            \n            \n            \n            \n            \n            \n            \n        \n                        Δ
URL:https://thepococlub.com/event/friday-night-scramble-5/
END:VEVENT
BEGIN:VEVENT
DTSTART;TZID=America/Toronto:20250711T170000
DTEND;TZID=America/Toronto:20250711T193000
DTSTAMP:20260421T114915
CREATED:20250607T162435Z
LAST-MODIFIED:20250607T162538Z
UID:10000005-1752253200-1752262200@thepococlub.com
SUMMARY:Friday Night Scrambles
DESCRIPTION:A Fun filled event! Sign up as a foursome\, a single or anything in between! \nMembers is $15 entry \nNon-Members $4o entry \n5pm Shotgun Start \n\n                \n                        \n                            Contact Form\n                             \n                         \n \n                        EmailThis field is for validation purposes and should be left unchanged.Your Name*\n                            \n                            \n                                                    \n                                                    First\n                                                \n                            \n                            \n                                                    \n                                                    Last\n                                                \n                            \n                        Phone*Email*\n                            \n                        Please Include Any Additional Details*hCaptcha		\n				\n		\n		\n          \n            \n            \n            \n            \n            \n            \n            \n            \n            \n            \n            \n            \n            \n        \n                        Δ
URL:https://thepococlub.com/event/friday-night-scrambles/
END:VEVENT
BEGIN:VEVENT
DTSTART;TZID=America/Toronto:20250704T170000
DTEND;TZID=America/Toronto:20250704T193000
DTSTAMP:20260421T114915
CREATED:20250607T162333Z
LAST-MODIFIED:20250607T162620Z
UID:10000004-1751648400-1751657400@thepococlub.com
SUMMARY:Friday Night Scramble
DESCRIPTION:A Fun filled event! Sign up as a foursome\, a single or anything in between! \nMembers $15 entry \nNon-Members $4o entry \n5pm Shotgun Start \n\n                \n                        \n                            Contact Form\n                             \n                         \n \n                        X/TwitterThis field is for validation purposes and should be left unchanged.Your Name*\n                            \n                            \n                                                    \n                                                    First\n                                                \n                            \n                            \n                                                    \n                                                    Last\n                                                \n                            \n                        Phone*Email*\n                            \n                        Please Include Any Additional Details*hCaptcha		\n				\n		\n		\n          \n            \n            \n            \n            \n            \n            \n            \n            \n            \n            \n            \n            \n            \n        \n                        Δ
URL:https://thepococlub.com/event/friday-night-scramble-4/
END:VEVENT
BEGIN:VEVENT
DTSTART;TZID=America/Toronto:20250627T170000
DTEND;TZID=America/Toronto:20250627T193000
DTSTAMP:20260421T114915
CREATED:20250607T162203Z
LAST-MODIFIED:20250607T163155Z
UID:10000003-1751043600-1751052600@thepococlub.com
SUMMARY:Friday Night Scramble
DESCRIPTION:A Fun filled event! Sign up as a foursome\, a single or anything in between! \nMembers is $15 entry \nNon-Members $4o entry \n5pm Shotgun Start \n\n                \n                        \n                            Contact Form\n                             \n                         \n \n                        LinkedInThis field is for validation purposes and should be left unchanged.Your Name*\n                            \n                            \n                                                    \n                                                    First\n                                                \n                            \n                            \n                                                    \n                                                    Last\n                                                \n                            \n                        Phone*Email*\n                            \n                        Please Include Any Additional Details*hCaptcha		\n				\n		\n		\n          \n            \n            \n            \n            \n            \n            \n            \n            \n            \n            \n            \n            \n            \n        \n                        Δ
URL:https://thepococlub.com/event/friday-night-scramble-3/
END:VEVENT
BEGIN:VEVENT
DTSTART;TZID=America/Toronto:20250620T170000
DTEND;TZID=America/Toronto:20250620T193000
DTSTAMP:20260421T114915
CREATED:20250607T162055Z
LAST-MODIFIED:20250607T163036Z
UID:10000002-1750438800-1750447800@thepococlub.com
SUMMARY:Friday Night Scramble
DESCRIPTION:A Fun filled event! Sign up as a foursome\, a single or anything in between! \nMembers is $15 entry \nNon-Members $4o entry \n5pm Shotgun Start \n\n                \n                        \n                            Contact Form\n                             \n                         \n \n                        CommentsThis field is for validation purposes and should be left unchanged.Your Name*\n                            \n                            \n                                                    \n                                                    First\n                                                \n                            \n                            \n                                                    \n                                                    Last\n                                                \n                            \n                        Phone*Email*\n                            \n                        Please Include Any Additional Details*hCaptcha		\n				\n		\n		\n          \n            \n            \n            \n            \n            \n            \n            \n            \n            \n            \n            \n            \n            \n        \n                        Δ
URL:https://thepococlub.com/event/friday-night-scramble-2/
END:VEVENT
BEGIN:VEVENT
DTSTART;TZID=America/Toronto:20250613T170000
DTEND;TZID=America/Toronto:20250613T193000
DTSTAMP:20260421T114915
CREATED:20250607T162008Z
LAST-MODIFIED:20250607T162008Z
UID:10000001-1749834000-1749843000@thepococlub.com
SUMMARY:Friday Night Scramble
DESCRIPTION:A Fun filled event! Sign up as a foursome\, a single or anything in between! \nMembers is $15 entry \nNon-Members $4o entry \n5pm Shotgun Start \n\n                \n                        \n                            Contact Form\n                             \n                         \n \n                        CommentsThis field is for validation purposes and should be left unchanged.Your Name*\n                            \n                            \n                                                    \n                                                    First\n                                                \n                            \n                            \n                                                    \n                                                    Last\n                                                \n                            \n                        Phone*Email*\n                            \n                        Please Include Any Additional Details*hCaptcha		\n				\n		\n		\n          \n            \n            \n            \n            \n            \n            \n            \n            \n            \n            \n            \n            \n            \n        \n                        Δ
URL:https://thepococlub.com/event/friday-night-scramble/
END:VEVENT
END:VCALENDAR